BEGIN:VCALENDAR
VERSION:2.0
PRODID:-//eventon.com NONSGML v1.0//EN
BEGIN:VEVENT
UID:69e8a5d8da4eb
DTSTAMP:20260422T124128
DTSTART:20210718
DTEND:20210720
TZID:Europe/Paris
LOCATION:Le Bouscat 7 rue Gabriel Péri\,  33110 Le Bouscat
SUMMARY:Atelier lundi 19 juillet ou mardi 20 juillet 2021 chez Valèrie
DESCRIPTION: Valérie  nous accueillera chez elle avant qu&#8217;elle déménage. Nous profiterons de son jardin et de son aimable invitation pour travailler nos arbres.
URL:https://www.bonsai-club-sudouest.fr/events/atelier-lundi-19-juillet-ou-mardi-20-juillet-2021-chez-valerie/
END:VEVENT
END:VCALENDAR