BEGIN:VCALENDAR
VERSION:2.0
PRODID:-//eventon.com NONSGML v1.0//EN
BEGIN:VEVENT
UID:69ecd25dcb167
DTSTAMP:20260425T164029
DTSTART:20211218T080000Z
DTEND:20211218T160000Z
TZID:Europe/Paris
LOCATION:16 rue des Palus 33290 Parempuyre 16 rue des Palus 33290 Parempuyre
SUMMARY:ATELIER LE 18 DÉCEMBRE SALLE LA CIGOGNE À PAREMPUYRE avec formateur
DESCRIPTION: Jean-Marc Ladagnous\,  formateur N3 de la Fédération Française de Bonsaï\,  nous prodiguera durant toute cette journée des conseils que nous mettrons directement en application. Donc venez nombreux pour profiter de ses conseils. Spécialiste des pins\,  taxus et +++ &nbsp;
URL:https://www.bonsai-club-sudouest.fr/events/atelier-le-18-decembre-salle-la-cigogne-a-parempuyre-avec-formateur/
END:VEVENT
END:VCALENDAR