BEGIN:VCALENDAR
VERSION:2.0
PRODID:-//eventon.com NONSGML v1.0//EN
BEGIN:VEVENT
UID:69e4eb76a3cd6
DTSTAMP:20260419T164926
DTSTART:20220319T080000Z
DTEND:20220319T040000Z
TZID:Europe/Paris
LOCATION:16 rue des Palus 33290 Parempuyre 16 rue des Palus 33290 Parempuyre
SUMMARY:ATELIER LE 19 MARS 2022 SALLE LA CIGOGNE À PAREMPUYRE
DESCRIPTION: C’est le bon moment pour effectuer des marcottages donc nous continuerons à apprendre ce qu&#8217;est le marcottage et comment le faire ! Le marcottage aérien est utilisé dans le façonnage des bonsaïs comme technique pour améliorer la qualité du bonsaï. Parfois\,  on l’utilise pour raccourcir un long tronc ou pour[..]
URL:https://www.bonsai-club-sudouest.fr/events/atelier-le-19-mars-2022-salle-la-cigogne-a-parempuyre/
END:VEVENT
END:VCALENDAR