BEGIN:VCALENDAR
VERSION:2.0
PRODID:-//eventon.com NONSGML v1.0//EN
BEGIN:VEVENT
UID:69ecd0c95f243
DTSTAMP:20260425T163345
DTSTART:20220903T092900Z
DTEND:20220903T212900Z
TZID:Europe/Paris
LOCATION:rue de la gare 33290 Parempuyre
SUMMARY:Forum du 3 septembre 2022 à la salle L'Art Y Show à Parempuyre
DESCRIPTION: Nous y étions déjà  l&#8217;année passée et c&#8217;est avec grand plaisir que nous participerons à nouveau au forum des associations et ce\,  avec grand plaisir. Démonstrations\,  discussions et autres seront à l&#8217;ordre du jour pour mieux nous faire connaitre sur la ville de Parempuyre. Une journée l&#8217;année passée qui marqua[..]
URL:https://www.bonsai-club-sudouest.fr/events/forum-du-3-septembre-2022-a-la-salle-lart-y-show-a-parempuyre/
END:VEVENT
END:VCALENDAR