BEGIN:VCALENDAR
VERSION:2.0
PRODID:-//eventon.com NONSGML v1.0//EN
BEGIN:VEVENT
UID:69e9da041378d
DTSTAMP:20260423T103620
DTSTART:20220917T070000Z
DTEND:20220918T033000Z
TZID:Europe/Paris
LOCATION:16 rue des Palus 33290 Parempuyre 16 rue des Palus 33290 Parempuyre
SUMMARY:Atelier le samedi 17 septembre et le dimanche 18 septembre Salle La Cigogne à Parempuyre avec le Formateur National Jean-Bernard Gallais
DESCRIPTION: A Parempuyre\,  16 rue des palus\,  espace Thierry Grolleau\,  salle « La Cigogne ». Atelier principalement accès sur le futur  de nos arbres que nous analyserons avec notre Formateur National Jean-Bernard Gallais. Des consignes à revoir et aussi parler des traitements de protection de nos arbres pour l&#8217;hiver.
URL:https://www.bonsai-club-sudouest.fr/events/atelier-le-samedi-17-septembre-et-le-dimanche-18-septembre-salle-la-cigogne-a-parempuyre/
END:VEVENT
END:VCALENDAR