BEGIN:VCALENDAR
VERSION:2.0
PRODID:-//eventon.com NONSGML v1.0//EN
BEGIN:VEVENT
UID:69eb260301959
DTSTAMP:20260424T101251
DTSTART:20221203T080000Z
DTEND:20221203T163000Z
TZID:Europe/Paris
LOCATION:16 rue des Palus 33290 Parempuyre 16 rue des Palus 33290 Parempuyre
SUMMARY:ATELIER LE SAMEDI 3 décembre  SALLE LA CIGOGNE À PAREMPUYRE
DESCRIPTION: Pour la plupart des arbres\,  c&#8217;est l&#8217;hiver\,  avec ses périodes de gel plus ou moins longues\,  selon la zone géographique et l&#8217;altitude de chacun. D&#8217;autres finissent à peine de perdre leurs feuilles. Pour parer à toute éventualité les protections hivernales seront mise en place pour protéger éventuellement les petits pots[..]
URL:https://www.bonsai-club-sudouest.fr/events/atelier-le-samedi-3-decembre-salle-la-cigogne-a-parempuyre/
END:VEVENT
END:VCALENDAR