BEGIN:VCALENDAR
VERSION:2.0
PRODID:-//eventon.com NONSGML v1.0//EN
BEGIN:VEVENT
UID:69e9176cdf3e1
DTSTAMP:20260422T204604
DTSTART:20230107T080000Z
DTEND:20230108T163000Z
TZID:Europe/Paris
LOCATION:16 rue des Palus 33290 Parempuyre 16 rue des Palus 33290 Parempuyre
SUMMARY:ATELIER LE SAMEDI 7 Janvier ET LE DIMANCHE 8 janvier SALLE LA CIGOGNE À PAREMPUYRE AVEC LE FORMATEUR NATIONAL JEAN-MARC LADAGNOUS
DESCRIPTION: A Parempuyre\,  16 rue des palus\,  espace Thierry Grolleau\,  salle « La Cigogne ». Atelier principalement accès sur le futur de nos arbres que nous analyserons avec notre Formateur National Jean-Bernard Gallais. Nous commencerons à travailler certains arbres. Des consignes à revoir et aussi parler des traitements de protection de[..]
URL:https://www.bonsai-club-sudouest.fr/events/atelier-le-samedi-7-janvier-et-le-dimanche-8-janvier-salle-la-cigogne-a-parempuyre-avec-le-formateur-national-jean-bernard-gallais/
END:VEVENT
END:VCALENDAR